BEGIN:VCALENDAR
VERSION:2.0
PRODID:-//SC DHfK Leipzig e.V. - ECPv6.15.20//NONSGML v1.0//EN
CALSCALE:GREGORIAN
METHOD:PUBLISH
X-WR-CALNAME:SC DHfK Leipzig e.V.
X-ORIGINAL-URL:https://scdhfk.de
X-WR-CALDESC:Veranstaltungen für SC DHfK Leipzig e.V.
REFRESH-INTERVAL;VALUE=DURATION:PT1H
X-Robots-Tag:noindex
X-PUBLISHED-TTL:PT1H
BEGIN:VTIMEZONE
TZID:Europe/Berlin
BEGIN:DAYLIGHT
TZOFFSETFROM:+0100
TZOFFSETTO:+0200
TZNAME:CEST
DTSTART:20240331T010000
END:DAYLIGHT
BEGIN:STANDARD
TZOFFSETFROM:+0200
TZOFFSETTO:+0100
TZNAME:CET
DTSTART:20241027T010000
END:STANDARD
BEGIN:DAYLIGHT
TZOFFSETFROM:+0100
TZOFFSETTO:+0200
TZNAME:CEST
DTSTART:20250330T010000
END:DAYLIGHT
BEGIN:STANDARD
TZOFFSETFROM:+0200
TZOFFSETTO:+0100
TZNAME:CET
DTSTART:20251026T010000
END:STANDARD
BEGIN:DAYLIGHT
TZOFFSETFROM:+0100
TZOFFSETTO:+0200
TZNAME:CEST
DTSTART:20260329T010000
END:DAYLIGHT
BEGIN:STANDARD
TZOFFSETFROM:+0200
TZOFFSETTO:+0100
TZNAME:CET
DTSTART:20261025T010000
END:STANDARD
END:VTIMEZONE
BEGIN:VEVENT
DTSTART;TZID=Europe/Berlin:20250501T190000
DTEND;TZID=Europe/Berlin:20250501T203000
DTSTAMP:20260420T002859
CREATED:20250214T122947Z
LAST-MODIFIED:20250228T115456Z
UID:7891-1746126000-1746131400@scdhfk.de
SUMMARY:Handball I Bundesliga: SC DHfK vs. Wetzlar
DESCRIPTION:HIER Tickets sichern.
URL:https://scdhfk.de/veranstaltung/handball-i-bundesliga-sc-dhfk-vs-wetzlar/
LOCATION:Leipzig\, QUARTERBACK Immobilien ARENA
CATEGORIES:Handball
ATTACH;FMTTYPE=image/jpeg:https://scdhfk.de/wp-content/uploads/2024/11/DHfK-Stuttgart_30_Quelle-Karsten-Mann.jpg
END:VEVENT
BEGIN:VEVENT
DTSTART;TZID=Europe/Berlin:20250509T160000
DTEND;TZID=Europe/Berlin:20250509T190000
DTSTAMP:20260420T002859
CREATED:20250507T144850Z
LAST-MODIFIED:20250507T144850Z
UID:8488-1746806400-1746817200@scdhfk.de
SUMMARY:Kickoff-Party | Vereins-Stickerheft
DESCRIPTION:Wir sind voller Vorfreude! Anlässlich unseres 70-jährigen Vereinsjubiläums bringen wir als SC DHfK Leipzig erstmals ein eigenes Stickerheft heraus – ein einzigartiges Sammelalbum\, das unsere gesamte Vereinsvielfalt zeigt. Mit dabei sind alle 21 Abteilungen\, unsere Handball-Bundesligaprofis sowie unsere ca. 90 Bundeskaderathletinnen und -athleten – vom Nachwuchs- bis zum Olympiakader. \nDen offiziellen Verkaufsstart möchten wir am Freitag\, 9. Mai von 16:00 bis 19:00 Uhr mit euch im Bootsverleih Klingerweg feiern! Hier könnt ihr das Stickerheft und die Sticker erstmalig kaufen – und zwar direkt von unseren Sportler:innen. \nEs warten tolle Aktionen auf euch. \n\nU.a. Vergünstigte Bootstouren für Stickerheft-Käufer:innen: \n\n\n\n\nMotorbootstour für Erwachsene für 2 € \n\n\n\n\nkostenfreie Motorbootsfahrt für Kinder \n\n\n\n\nKanuboote leihen für 1 € p.P. \n\n\n\n17-18 Uhr: Unsere Handball-Profis Lukas Binder und Nils Greilich geben Autogramme\, verkaufen Stickerhefte und stellen erwarten euch an der Torwand. Wer trifft\, kann eine Stickertüte gewinnen!\n\nKommt vorbei\, sammelt mit und habt eine gute Zeit mit uns! :-)
URL:https://scdhfk.de/veranstaltung/kickoff-party-vereins-stickerheft/
LOCATION:Leipzig | Bootsverleih Klingerweg\, Klingerweg 2\, Leipzig\, 04229\, Deutschland
CATEGORIES:SC DHfK Leipzig
ATTACH;FMTTYPE=image/png:https://scdhfk.de/wp-content/uploads/2025/04/Newsletter.png
END:VEVENT
BEGIN:VEVENT
DTSTART;TZID=Europe/Berlin:20250514T153000
DTEND;TZID=Europe/Berlin:20250514T203000
DTSTAMP:20260420T002859
CREATED:20250507T150317Z
LAST-MODIFIED:20250507T150341Z
UID:8496-1747236600-1747254600@scdhfk.de
SUMMARY:Leichtathletik: LAZ-Meeting
DESCRIPTION:Am 14. Mai von 15:30-20:30 Uhr verwandelt sich die Leipziger Nordanlage\, sportliches Wohnzimmer unseres SC DHfK Leichtathletikzentrums\, in eine Arena für Jung und Alt. In den Altersklassen U14 und U16\, U18 und U20 sowie Erwachsene können sich Athletinnen und Athleten in den Disziplingruppen Lauf\, Sprint sowie Sprung\, Wurf und Stoß messen. \nEine Besonderheit bringt das LAZ-Meeting mit sich. Es zählt zu den World Ranking Competitions des internationalen Leichtathletikverbands „Word Athletics“ (WA). Damit zählen die Ergebnisse als Qualifikation für internationale Meisterschaften. \nJetzt heißt es\, auf dem schnellsten Wege anmelden und einen Startplatz sichern! Die Anmeldung erfolgt über ladv.de und ist noch bis Freitag\, 9. Mai 2025\, möglich. \nWeitere Infos findet ihr hier: \n\nAusschreibung\nZeitplan\n\nFür leibliche Wohl ist vor Ort gesorgt. \nWir freuen uns auf euch!
URL:https://scdhfk.de/veranstaltung/leichtathletikzentrum-laz-meeting/
LOCATION:Nordanlage I Am Sportforum 5\, 04105 Leipzig
CATEGORIES:Leichtathletik
ATTACH;FMTTYPE=image/png:https://scdhfk.de/wp-content/uploads/2025/05/Kopie-von-Kopie-von-Kopie-von-Insta-Beitrag-1.png
ORGANIZER;CN="SC DHfK Leichtathletikzentrum":MAILTO:info@scdhfk-laz.de
END:VEVENT
BEGIN:VEVENT
DTSTART;TZID=Europe/Berlin:20250517T150000
DTEND;TZID=Europe/Berlin:20250517T190000
DTSTAMP:20260420T002859
CREATED:20250507T145531Z
LAST-MODIFIED:20250507T145625Z
UID:8490-1747494000-1747508400@scdhfk.de
SUMMARY:Faustball I 2. Bundesliga Süd: Heimspieltag SC DHfK
DESCRIPTION:Unsere Faustballer haben den Aufstieg in die 2. Bundesliga Süd geschafft und möchten den ersten Heimspiel-Tag in der neuen Liga gemeinsam mit euch zu einem unvergesslichen Erlebnis machen. Kommt am 17. Mai um 15 Uhr zur Sportschule Egidius Braun und schreit unsere Faustballer zum Sieg. Der Eintritt bis 14 Jahre ist frei. \nTickets gibt’s unter https://events.vereinsticket.de/scdhfk-faustball  \nUnter dem angegebenen Link findet ihr zudem attraktive Gruppenrabatte. \nDie Gegner des SC DHfK Leipzig sind: TSV Calw 2 und NLV Stuttgart Vaihingen \nO-Ton unserer Faustballer: \n„Unsere erste Männermannschaft hat den Aufstieg in die 2.Bundesliga Süd geschafft. Ab Mai startet für uns das Abenteuer Bundesliga nun. Am 17.05.25 findet unser erster Heimspieltag statt und wir brauchen eure Unterstützung! Innerhalb von 8 Jahren haben wir es aus eigener Kraft geschafft – mit unseren eigenen Nachwuchsspielern haben wir den Aufstieg realisiert. Um unsere *allererste Bundesliga-Saison* zu einem unvergesslichen Erlebnis zu machen\, wollen wir ein ganz besonderes Heim-Event auf die Beine stellen. Dafür brauchen wir jeden Einzelnen von euch! *Kommt vorbei\, bringt eure Freunde und Familie mit\, feuert unser Team an und schreit uns zum Sieg.* Wir sind der SC DHfK – gemeinsam schaffen wir alles. Wir bauen extra dafür ein *kleines Stadion* für euch und bieten für eure Jüngsten *coole sportliche und kreative Mitmachangebote* an. Es wird also nicht langweilig. \nWir wollen *1000 ZuschauerInnen* begrüßen – das wäre absoluter Faustball-Bundesliga-Rekord! Dass das nicht von allein geht\, ist uns klar. Aber schon allein\, wenn jedes Mitglied (mittlerweile über 300!) Mama und Papa mitbringt\, sind wir bei 1000 Menschen angelangt. Und wie sollten wir dann noch verlieren? \nAlso teilt unsere Beiträge fleißig und sprecht über uns in eurem Bekanntenkreis. Wir freuen uns auf euch!“
URL:https://scdhfk.de/veranstaltung/faustball-i-2-bundesliga-sued-heimspieltag-sc-dhfk/
LOCATION:Leipzig | Egidius Braun-Sportschule\, Abtnaundorfer Str. 47\, Leipzig\, 04347\, Deutschland
CATEGORIES:Faustball
ATTACH;FMTTYPE=image/jpeg:https://scdhfk.de/wp-content/uploads/2025/05/Faustball-Aufstieg-2.-Bundesliga_web.jpg
END:VEVENT
BEGIN:VEVENT
DTSTART;TZID=Europe/Berlin:20250519T190000
DTEND;TZID=Europe/Berlin:20250519T203000
DTSTAMP:20260420T002859
CREATED:20250214T123256Z
LAST-MODIFIED:20250228T115526Z
UID:7894-1747681200-1747686600@scdhfk.de
SUMMARY:Handball I Bundesliga: SC DHfK vs. HSV Hamburg
DESCRIPTION:HIER Tickets sichern.
URL:https://scdhfk.de/veranstaltung/handball-i-bundesliga-sc-dhfk-vs-hsv-hamburg/
LOCATION:Leipzig\, QUARTERBACK Immobilien ARENA
CATEGORIES:Handball
ATTACH;FMTTYPE=image/jpeg:https://scdhfk.de/wp-content/uploads/2024/11/DHfK-Stuttgart_30_Quelle-Karsten-Mann.jpg
END:VEVENT
END:VCALENDAR