BEGIN:VCALENDAR
VERSION:2.0
PRODID:-//SC DHfK Leipzig e.V. - ECPv6.15.20//NONSGML v1.0//EN
CALSCALE:GREGORIAN
METHOD:PUBLISH
X-ORIGINAL-URL:https://scdhfk.de
X-WR-CALDESC:Veranstaltungen für SC DHfK Leipzig e.V.
REFRESH-INTERVAL;VALUE=DURATION:PT1H
X-Robots-Tag:noindex
X-PUBLISHED-TTL:PT1H
BEGIN:VTIMEZONE
TZID:Europe/Berlin
BEGIN:DAYLIGHT
TZOFFSETFROM:+0100
TZOFFSETTO:+0200
TZNAME:CEST
DTSTART:20230326T010000
END:DAYLIGHT
BEGIN:STANDARD
TZOFFSETFROM:+0200
TZOFFSETTO:+0100
TZNAME:CET
DTSTART:20231029T010000
END:STANDARD
BEGIN:DAYLIGHT
TZOFFSETFROM:+0100
TZOFFSETTO:+0200
TZNAME:CEST
DTSTART:20240331T010000
END:DAYLIGHT
BEGIN:STANDARD
TZOFFSETFROM:+0200
TZOFFSETTO:+0100
TZNAME:CET
DTSTART:20241027T010000
END:STANDARD
BEGIN:DAYLIGHT
TZOFFSETFROM:+0100
TZOFFSETTO:+0200
TZNAME:CEST
DTSTART:20250330T010000
END:DAYLIGHT
BEGIN:STANDARD
TZOFFSETFROM:+0200
TZOFFSETTO:+0100
TZNAME:CET
DTSTART:20251026T010000
END:STANDARD
END:VTIMEZONE
BEGIN:VEVENT
DTSTART;VALUE=DATE:20240802
DTEND;VALUE=DATE:20240803
DTSTAMP:20260423T120226
CREATED:20231025T095552Z
LAST-MODIFIED:20231025T095552Z
UID:4398-1722556800-1722643199@scdhfk.de
SUMMARY:Radsport I 20. Kindernachtrennen
DESCRIPTION:
URL:https://scdhfk.de/veranstaltung/radsport-i-20-kindernachtrennen/
CATEGORIES:Radsport
ATTACH;FMTTYPE=image/jpeg:https://scdhfk.de/wp-content/uploads/2023/10/IMG_6253-scaled-e1698227741520.jpg
END:VEVENT
BEGIN:VEVENT
DTSTART;VALUE=DATE:20240814
DTEND;VALUE=DATE:20240819
DTSTAMP:20260423T120226
CREATED:20240206T094601Z
LAST-MODIFIED:20240206T120515Z
UID:5004-1723593600-1724025599@scdhfk.de
SUMMARY:Kanurennsport I 103. Deutsche Meisterschaft
DESCRIPTION:AK13 bis Leistungsklasse
URL:https://scdhfk.de/veranstaltung/kanurennsport-i-103-deutsche-meisterschaft/
LOCATION:Brandenburg a.d. Havel
CATEGORIES:Kanu
ATTACH;FMTTYPE=image/jpeg:https://scdhfk.de/wp-content/uploads/2024/02/Sieg-fuer-Peter-Kretschmer-bei-den-Finals_Quelle-Hennig-M.-Schoon-e1707221110258.jpg
END:VEVENT
BEGIN:VEVENT
DTSTART;VALUE=DATE:20240823
DTEND;VALUE=DATE:20240826
DTSTAMP:20260423T120226
CREATED:20240206T094822Z
LAST-MODIFIED:20240206T094822Z
UID:5009-1724371200-1724630399@scdhfk.de
SUMMARY:Leichtathletik I Deutsche Meisterschaft Mehrkampf
DESCRIPTION:U16 bis U23\, Männer und Frauen
URL:https://scdhfk.de/veranstaltung/leichtathletik-i-deutsche-meisterschaft-mehrkampf/
LOCATION:Hannover
CATEGORIES:Leichtathletik
ATTACH;FMTTYPE=image/jpeg:https://scdhfk.de/wp-content/uploads/2024/02/AdobeStock_41822962-scaled.jpeg
END:VEVENT
BEGIN:VEVENT
DTSTART;VALUE=DATE:20240826
DTEND;VALUE=DATE:20240901
DTSTAMP:20260423T120226
CREATED:20240627T131121Z
LAST-MODIFIED:20240627T131121Z
UID:6319-1724630400-1725148799@scdhfk.de
SUMMARY:Leichtathletik I U20-WM
DESCRIPTION:
URL:https://scdhfk.de/veranstaltung/leichtathletik-i-u20-wm/
LOCATION:Lima
CATEGORIES:Leichtathletik
ATTACH;FMTTYPE=image/jpeg:https://scdhfk.de/wp-content/uploads/2024/02/AdobeStock_41822962-scaled.jpeg
END:VEVENT
END:VCALENDAR