BEGIN:VCALENDAR
VERSION:2.0
PRODID:-//SC DHfK Leipzig e.V. - ECPv6.15.20//NONSGML v1.0//EN
CALSCALE:GREGORIAN
METHOD:PUBLISH
X-WR-CALNAME:SC DHfK Leipzig e.V.
X-ORIGINAL-URL:https://scdhfk.de
X-WR-CALDESC:Veranstaltungen für SC DHfK Leipzig e.V.
REFRESH-INTERVAL;VALUE=DURATION:PT1H
X-Robots-Tag:noindex
X-PUBLISHED-TTL:PT1H
BEGIN:VTIMEZONE
TZID:Europe/Berlin
BEGIN:DAYLIGHT
TZOFFSETFROM:+0100
TZOFFSETTO:+0200
TZNAME:CEST
DTSTART:20250330T010000
END:DAYLIGHT
BEGIN:STANDARD
TZOFFSETFROM:+0200
TZOFFSETTO:+0100
TZNAME:CET
DTSTART:20251026T010000
END:STANDARD
BEGIN:DAYLIGHT
TZOFFSETFROM:+0100
TZOFFSETTO:+0200
TZNAME:CEST
DTSTART:20260329T010000
END:DAYLIGHT
BEGIN:STANDARD
TZOFFSETFROM:+0200
TZOFFSETTO:+0100
TZNAME:CET
DTSTART:20261025T010000
END:STANDARD
BEGIN:DAYLIGHT
TZOFFSETFROM:+0100
TZOFFSETTO:+0200
TZNAME:CEST
DTSTART:20270328T010000
END:DAYLIGHT
BEGIN:STANDARD
TZOFFSETFROM:+0200
TZOFFSETTO:+0100
TZNAME:CET
DTSTART:20271031T010000
END:STANDARD
END:VTIMEZONE
BEGIN:VEVENT
DTSTART;VALUE=DATE:20260506
DTEND;VALUE=DATE:20260511
DTSTAMP:20260422T135018
CREATED:20260121T115223Z
LAST-MODIFIED:20260121T115223Z
UID:9780-1778025600-1778457599@scdhfk.de
SUMMARY:Wasserspringen | Deutsche Meisterschaften A-/ B-Jugend
DESCRIPTION:
URL:https://scdhfk.de/veranstaltung/wasserspringen-deutsche-meisterschaften-a-b-jugend-2/
LOCATION:Aachen
CATEGORIES:Wasserspringen
ATTACH;FMTTYPE=image/jpeg:https://scdhfk.de/wp-content/uploads/2023/03/Julina-Schnabel-1.jpg
END:VEVENT
BEGIN:VEVENT
DTSTART;VALUE=DATE:20260508
DTEND;VALUE=DATE:20260511
DTSTAMP:20260422T135018
CREATED:20260121T115421Z
LAST-MODIFIED:20260121T115421Z
UID:9784-1778198400-1778457599@scdhfk.de
SUMMARY:Kanu | World Cup I
DESCRIPTION:
URL:https://scdhfk.de/veranstaltung/kanu-world-cup-i/
LOCATION:Szeged\, Hungary
CATEGORIES:Kanu
ATTACH;FMTTYPE=image/jpeg:https://scdhfk.de/wp-content/uploads/2024/02/2023-05-05_15-18-47_ds-e1707211314116.jpg
END:VEVENT
END:VCALENDAR