BEGIN:VCALENDAR
VERSION:2.0
PRODID:-//SC DHfK Leipzig e.V. - ECPv6.15.20//NONSGML v1.0//EN
CALSCALE:GREGORIAN
METHOD:PUBLISH
X-ORIGINAL-URL:https://scdhfk.de
X-WR-CALDESC:Veranstaltungen für SC DHfK Leipzig e.V.
REFRESH-INTERVAL;VALUE=DURATION:PT1H
X-Robots-Tag:noindex
X-PUBLISHED-TTL:PT1H
BEGIN:VTIMEZONE
TZID:Europe/Berlin
BEGIN:DAYLIGHT
TZOFFSETFROM:+0100
TZOFFSETTO:+0200
TZNAME:CEST
DTSTART:20250330T010000
END:DAYLIGHT
BEGIN:STANDARD
TZOFFSETFROM:+0200
TZOFFSETTO:+0100
TZNAME:CET
DTSTART:20251026T010000
END:STANDARD
BEGIN:DAYLIGHT
TZOFFSETFROM:+0100
TZOFFSETTO:+0200
TZNAME:CEST
DTSTART:20260329T010000
END:DAYLIGHT
BEGIN:STANDARD
TZOFFSETFROM:+0200
TZOFFSETTO:+0100
TZNAME:CET
DTSTART:20261025T010000
END:STANDARD
BEGIN:DAYLIGHT
TZOFFSETFROM:+0100
TZOFFSETTO:+0200
TZNAME:CEST
DTSTART:20270328T010000
END:DAYLIGHT
BEGIN:STANDARD
TZOFFSETFROM:+0200
TZOFFSETTO:+0100
TZNAME:CET
DTSTART:20271031T010000
END:STANDARD
END:VTIMEZONE
BEGIN:VEVENT
DTSTART;VALUE=DATE:20260424
DTEND;VALUE=DATE:20260427
DTSTAMP:20260420T104450
CREATED:20260116T113552Z
LAST-MODIFIED:20260415T094813Z
UID:9702-1776988800-1777247999@scdhfk.de
SUMMARY:Kanu | 2. Nationale Qualifikation Junioren
DESCRIPTION:
URL:https://scdhfk.de/veranstaltung/kanu-2-qualifikation-junioren-und-leistungsklassen/
LOCATION:Duisburg
CATEGORIES:Kanu
ATTACH;FMTTYPE=image/jpeg:https://scdhfk.de/wp-content/uploads/2024/02/2023-05-05_15-18-47_ds-e1707211314116.jpg
END:VEVENT
END:VCALENDAR