BEGIN:VCALENDAR
VERSION:2.0
PRODID:-//SC DHfK Leipzig e.V. - ECPv6.15.20//NONSGML v1.0//EN
CALSCALE:GREGORIAN
METHOD:PUBLISH
X-WR-CALNAME:SC DHfK Leipzig e.V.
X-ORIGINAL-URL:https://scdhfk.de
X-WR-CALDESC:Veranstaltungen für SC DHfK Leipzig e.V.
REFRESH-INTERVAL;VALUE=DURATION:PT1H
X-Robots-Tag:noindex
X-PUBLISHED-TTL:PT1H
BEGIN:VTIMEZONE
TZID:Europe/Berlin
BEGIN:DAYLIGHT
TZOFFSETFROM:+0100
TZOFFSETTO:+0200
TZNAME:CEST
DTSTART:20250330T010000
END:DAYLIGHT
BEGIN:STANDARD
TZOFFSETFROM:+0200
TZOFFSETTO:+0100
TZNAME:CET
DTSTART:20251026T010000
END:STANDARD
BEGIN:DAYLIGHT
TZOFFSETFROM:+0100
TZOFFSETTO:+0200
TZNAME:CEST
DTSTART:20260329T010000
END:DAYLIGHT
BEGIN:STANDARD
TZOFFSETFROM:+0200
TZOFFSETTO:+0100
TZNAME:CET
DTSTART:20261025T010000
END:STANDARD
BEGIN:DAYLIGHT
TZOFFSETFROM:+0100
TZOFFSETTO:+0200
TZNAME:CEST
DTSTART:20270328T010000
END:DAYLIGHT
BEGIN:STANDARD
TZOFFSETFROM:+0200
TZOFFSETTO:+0100
TZNAME:CET
DTSTART:20271031T010000
END:STANDARD
END:VTIMEZONE
BEGIN:VEVENT
DTSTART;VALUE=DATE:20260418
DTEND;VALUE=DATE:20260420
DTSTAMP:20260420T105005
CREATED:20260116T113155Z
LAST-MODIFIED:20260116T113252Z
UID:9697-1776470400-1776643199@scdhfk.de
SUMMARY:Speedskating | LE-Skate Race 2026
DESCRIPTION:
URL:https://scdhfk.de/veranstaltung/speedskating-le-skate-race-2026/
LOCATION:Speedskating-Bahn\, Diderotstraße\, Leipzig\, Sachsen\, 04159\, Deutschland
CATEGORIES:Speedskating
ATTACH;FMTTYPE=image/jpeg:https://scdhfk.de/wp-content/uploads/2025/02/IMG_3676-scaled.jpg
END:VEVENT
BEGIN:VEVENT
DTSTART;TZID=Europe/Berlin:20260418T180000
DTEND;TZID=Europe/Berlin:20260418T200000
DTSTAMP:20260420T105005
CREATED:20260415T094029Z
LAST-MODIFIED:20260415T094220Z
UID:10409-1776535200-1776542400@scdhfk.de
SUMMARY:Floorball | Playoff-Halbfinale 1. Bundesliga: MFBC Leipzig vs. SC DHfK Leipzig
DESCRIPTION:Spiel 1 der Halbfinal-Serie.
URL:https://scdhfk.de/veranstaltung/floorball-playoff-hf1/
LOCATION:Sporthalle Brüderstraße\, Brüderstraße 15\, Leipzig\, 04103\, Germany
CATEGORIES:Floorball
ATTACH;FMTTYPE=image/jpeg:https://scdhfk.de/wp-content/uploads/2026/04/Floorball-SC-DHfK-Bonn-Playoff-VF_Foto-Laura-Roemer.jpg
END:VEVENT
END:VCALENDAR