BEGIN:VCALENDAR
VERSION:2.0
PRODID:-//SC DHfK Leipzig e.V. - ECPv6.15.20//NONSGML v1.0//EN
CALSCALE:GREGORIAN
METHOD:PUBLISH
X-WR-CALNAME:SC DHfK Leipzig e.V.
X-ORIGINAL-URL:https://scdhfk.de
X-WR-CALDESC:Veranstaltungen für SC DHfK Leipzig e.V.
REFRESH-INTERVAL;VALUE=DURATION:PT1H
X-Robots-Tag:noindex
X-PUBLISHED-TTL:PT1H
BEGIN:VTIMEZONE
TZID:Europe/Berlin
BEGIN:DAYLIGHT
TZOFFSETFROM:+0100
TZOFFSETTO:+0200
TZNAME:CEST
DTSTART:20240331T010000
END:DAYLIGHT
BEGIN:STANDARD
TZOFFSETFROM:+0200
TZOFFSETTO:+0100
TZNAME:CET
DTSTART:20241027T010000
END:STANDARD
BEGIN:DAYLIGHT
TZOFFSETFROM:+0100
TZOFFSETTO:+0200
TZNAME:CEST
DTSTART:20250330T010000
END:DAYLIGHT
BEGIN:STANDARD
TZOFFSETFROM:+0200
TZOFFSETTO:+0100
TZNAME:CET
DTSTART:20251026T010000
END:STANDARD
BEGIN:DAYLIGHT
TZOFFSETFROM:+0100
TZOFFSETTO:+0200
TZNAME:CEST
DTSTART:20260329T010000
END:DAYLIGHT
BEGIN:STANDARD
TZOFFSETFROM:+0200
TZOFFSETTO:+0100
TZNAME:CET
DTSTART:20261025T010000
END:STANDARD
END:VTIMEZONE
BEGIN:VEVENT
DTSTART;VALUE=DATE:20251011
DTEND;VALUE=DATE:20251013
DTSTAMP:20260420T030001
CREATED:20250925T054654Z
LAST-MODIFIED:20250925T054654Z
UID:9206-1760140800-1760313599@scdhfk.de
SUMMARY:Radsport | Gravel-WM mit Romy Kasper
DESCRIPTION:
URL:https://scdhfk.de/veranstaltung/radsport-gravel-wm-mit-romy-kasper/
LOCATION:Süd-Limburg\, Niederlande\, Netherlands
CATEGORIES:Radsport
ATTACH;FMTTYPE=image/jpeg:https://scdhfk.de/wp-content/uploads/2025/09/Gravel-WM-Romy-Kasper-Platz-5-scaled.jpg
END:VEVENT
BEGIN:VEVENT
DTSTART;TZID=Europe/Berlin:20251012T160000
DTEND;TZID=Europe/Berlin:20251012T180000
DTSTAMP:20260420T030001
CREATED:20250925T053753Z
LAST-MODIFIED:20250925T053753Z
UID:9195-1760284800-1760292000@scdhfk.de
SUMMARY:Floorball | 1. Bundesliga SC DHfK Leipzig vs Weißenfels
DESCRIPTION:
URL:https://scdhfk.de/veranstaltung/floorball-1-bundesliga-sc-dhfk-leipzig-vs-weissenfels/
LOCATION:Leipzig\, Sporthalle am Rabet
CATEGORIES:Floorball
ATTACH;FMTTYPE=image/jpeg:https://scdhfk.de/wp-content/uploads/2024/11/433869108_18273563341207430_5335032452702749276_n.jpg
END:VEVENT
END:VCALENDAR