BEGIN:VCALENDAR
VERSION:2.0
PRODID:-//SC DHfK Leipzig e.V. - ECPv6.15.20//NONSGML v1.0//EN
CALSCALE:GREGORIAN
METHOD:PUBLISH
X-ORIGINAL-URL:https://scdhfk.de
X-WR-CALDESC:Veranstaltungen für SC DHfK Leipzig e.V.
REFRESH-INTERVAL;VALUE=DURATION:PT1H
X-Robots-Tag:noindex
X-PUBLISHED-TTL:PT1H
BEGIN:VTIMEZONE
TZID:Europe/Berlin
BEGIN:DAYLIGHT
TZOFFSETFROM:+0100
TZOFFSETTO:+0200
TZNAME:CEST
DTSTART:20240331T010000
END:DAYLIGHT
BEGIN:STANDARD
TZOFFSETFROM:+0200
TZOFFSETTO:+0100
TZNAME:CET
DTSTART:20241027T010000
END:STANDARD
BEGIN:DAYLIGHT
TZOFFSETFROM:+0100
TZOFFSETTO:+0200
TZNAME:CEST
DTSTART:20250330T010000
END:DAYLIGHT
BEGIN:STANDARD
TZOFFSETFROM:+0200
TZOFFSETTO:+0100
TZNAME:CET
DTSTART:20251026T010000
END:STANDARD
BEGIN:DAYLIGHT
TZOFFSETFROM:+0100
TZOFFSETTO:+0200
TZNAME:CEST
DTSTART:20260329T010000
END:DAYLIGHT
BEGIN:STANDARD
TZOFFSETFROM:+0200
TZOFFSETTO:+0100
TZNAME:CET
DTSTART:20261025T010000
END:STANDARD
END:VTIMEZONE
BEGIN:VEVENT
DTSTART;TZID=Europe/Berlin:20250927T173000
DTEND;TZID=Europe/Berlin:20250927T193000
DTSTAMP:20260419T232139
CREATED:20250910T062925Z
LAST-MODIFIED:20250910T063912Z
UID:9056-1758994200-1759001400@scdhfk.de
SUMMARY:Floorball | 1. Bundesliga  MFBC Leipzig vs SC DHfK Leipzig
DESCRIPTION:
URL:https://scdhfk.de/veranstaltung/floorball-1-bundesliga-sc-dhfk-vs-mfbc-leipzig-theoretisch-auswaertsspiel-aber-daheim/
LOCATION:Sporthalle Dösner Weg Leipzig
CATEGORIES:Floorball
ATTACH;FMTTYPE=image/jpeg:https://scdhfk.de/wp-content/uploads/2024/11/433869108_18273563341207430_5335032452702749276_n.jpg
END:VEVENT
END:VCALENDAR