BEGIN:VCALENDAR
VERSION:2.0
PRODID:-//SC DHfK Leipzig e.V. - ECPv6.15.20//NONSGML v1.0//EN
CALSCALE:GREGORIAN
METHOD:PUBLISH
X-WR-CALNAME:SC DHfK Leipzig e.V.
X-ORIGINAL-URL:https://scdhfk.de
X-WR-CALDESC:Veranstaltungen für SC DHfK Leipzig e.V.
REFRESH-INTERVAL;VALUE=DURATION:PT1H
X-Robots-Tag:noindex
X-PUBLISHED-TTL:PT1H
BEGIN:VTIMEZONE
TZID:Europe/Berlin
BEGIN:DAYLIGHT
TZOFFSETFROM:+0100
TZOFFSETTO:+0200
TZNAME:CEST
DTSTART:20240331T010000
END:DAYLIGHT
BEGIN:STANDARD
TZOFFSETFROM:+0200
TZOFFSETTO:+0100
TZNAME:CET
DTSTART:20241027T010000
END:STANDARD
BEGIN:DAYLIGHT
TZOFFSETFROM:+0100
TZOFFSETTO:+0200
TZNAME:CEST
DTSTART:20250330T010000
END:DAYLIGHT
BEGIN:STANDARD
TZOFFSETFROM:+0200
TZOFFSETTO:+0100
TZNAME:CET
DTSTART:20251026T010000
END:STANDARD
BEGIN:DAYLIGHT
TZOFFSETFROM:+0100
TZOFFSETTO:+0200
TZNAME:CEST
DTSTART:20260329T010000
END:DAYLIGHT
BEGIN:STANDARD
TZOFFSETFROM:+0200
TZOFFSETTO:+0100
TZNAME:CET
DTSTART:20261025T010000
END:STANDARD
END:VTIMEZONE
BEGIN:VEVENT
DTSTART;VALUE=DATE:20250919
DTEND;VALUE=DATE:20250922
DTSTAMP:20260419T231739
CREATED:20250212T115509Z
LAST-MODIFIED:20250905T053519Z
UID:7864-1758240000-1758499199@scdhfk.de
SUMMARY:Wasserball | Seelöwenpokal
DESCRIPTION:
URL:https://scdhfk.de/veranstaltung/wasserball-seeloewenpokal-2/
LOCATION:Leipzig\, Universitätsschwimmhalle
CATEGORIES:Wasserball
ATTACH;FMTTYPE=image/jpeg:https://scdhfk.de/wp-content/uploads/2025/02/2023-09-23_14-54-47_ds-2.jpg
END:VEVENT
BEGIN:VEVENT
DTSTART;VALUE=DATE:20250920
DTEND;VALUE=DATE:20250921
DTSTAMP:20260419T231739
CREATED:20250910T061956Z
LAST-MODIFIED:20250910T061956Z
UID:9047-1758326400-1758412799@scdhfk.de
SUMMARY:Radsport | DM Omnium Jugend\, Schüler Internationale Meisterschaften
DESCRIPTION:
URL:https://scdhfk.de/veranstaltung/radsport-dm-omnium-jugend-schueler-internationale-meisterschaften/
LOCATION:Büttgen
CATEGORIES:Radsport
ATTACH;FMTTYPE=image/jpeg:https://scdhfk.de/wp-content/uploads/2024/11/Rico-Bogen-2024-scaled.jpg
END:VEVENT
BEGIN:VEVENT
DTSTART;TZID=Europe/Berlin:20250920T170000
DTEND;TZID=Europe/Berlin:20250920T190000
DTSTAMP:20260419T231739
CREATED:20250910T062252Z
LAST-MODIFIED:20250910T062252Z
UID:9050-1758387600-1758394800@scdhfk.de
SUMMARY:Floorball | 1. Bundesliga SC DHfK vs. VfL Potsdam
DESCRIPTION:
URL:https://scdhfk.de/veranstaltung/floorball-1-bundesliga-sc-dhfk-vs-vfl-potsdam/
LOCATION:Leipzig\, Sporthalle am Rabet
CATEGORIES:Floorball
ATTACH;FMTTYPE=image/jpeg:https://scdhfk.de/wp-content/uploads/2024/11/433869108_18273563341207430_5335032452702749276_n.jpg
END:VEVENT
END:VCALENDAR