BEGIN:VCALENDAR
VERSION:2.0
PRODID:-//SC DHfK Leipzig e.V. - ECPv6.15.20//NONSGML v1.0//EN
CALSCALE:GREGORIAN
METHOD:PUBLISH
X-ORIGINAL-URL:https://scdhfk.de
X-WR-CALDESC:Veranstaltungen für SC DHfK Leipzig e.V.
REFRESH-INTERVAL;VALUE=DURATION:PT1H
X-Robots-Tag:noindex
X-PUBLISHED-TTL:PT1H
BEGIN:VTIMEZONE
TZID:Europe/Berlin
BEGIN:DAYLIGHT
TZOFFSETFROM:+0100
TZOFFSETTO:+0200
TZNAME:CEST
DTSTART:20240331T010000
END:DAYLIGHT
BEGIN:STANDARD
TZOFFSETFROM:+0200
TZOFFSETTO:+0100
TZNAME:CET
DTSTART:20241027T010000
END:STANDARD
BEGIN:DAYLIGHT
TZOFFSETFROM:+0100
TZOFFSETTO:+0200
TZNAME:CEST
DTSTART:20250330T010000
END:DAYLIGHT
BEGIN:STANDARD
TZOFFSETFROM:+0200
TZOFFSETTO:+0100
TZNAME:CET
DTSTART:20251026T010000
END:STANDARD
BEGIN:DAYLIGHT
TZOFFSETFROM:+0100
TZOFFSETTO:+0200
TZNAME:CEST
DTSTART:20260329T010000
END:DAYLIGHT
BEGIN:STANDARD
TZOFFSETFROM:+0200
TZOFFSETTO:+0100
TZNAME:CET
DTSTART:20261025T010000
END:STANDARD
END:VTIMEZONE
BEGIN:VEVENT
DTSTART;VALUE=DATE:20250905
DTEND;VALUE=DATE:20250907
DTSTAMP:20260419T232058
CREATED:20250905T053751Z
LAST-MODIFIED:20250905T053751Z
UID:9003-1757030400-1757203199@scdhfk.de
SUMMARY:Radsport | Europameisterschaft Steher & Derny
DESCRIPTION:
URL:https://scdhfk.de/veranstaltung/radsport-europameisterschaft-steher-derny/
LOCATION:Erfurt
CATEGORIES:Radsport
ATTACH;FMTTYPE=image/jpeg:https://scdhfk.de/wp-content/uploads/2024/11/IMG_0118-scaled.jpg
END:VEVENT
END:VCALENDAR