BEGIN:VCALENDAR
VERSION:2.0
PRODID:-//SC DHfK Leipzig e.V. - ECPv6.15.20//NONSGML v1.0//EN
CALSCALE:GREGORIAN
METHOD:PUBLISH
X-ORIGINAL-URL:https://scdhfk.de
X-WR-CALDESC:Veranstaltungen für SC DHfK Leipzig e.V.
REFRESH-INTERVAL;VALUE=DURATION:PT1H
X-Robots-Tag:noindex
X-PUBLISHED-TTL:PT1H
BEGIN:VTIMEZONE
TZID:Europe/Berlin
BEGIN:DAYLIGHT
TZOFFSETFROM:+0100
TZOFFSETTO:+0200
TZNAME:CEST
DTSTART:20240331T010000
END:DAYLIGHT
BEGIN:STANDARD
TZOFFSETFROM:+0200
TZOFFSETTO:+0100
TZNAME:CET
DTSTART:20241027T010000
END:STANDARD
BEGIN:DAYLIGHT
TZOFFSETFROM:+0100
TZOFFSETTO:+0200
TZNAME:CEST
DTSTART:20250330T010000
END:DAYLIGHT
BEGIN:STANDARD
TZOFFSETFROM:+0200
TZOFFSETTO:+0100
TZNAME:CET
DTSTART:20251026T010000
END:STANDARD
BEGIN:DAYLIGHT
TZOFFSETFROM:+0100
TZOFFSETTO:+0200
TZNAME:CEST
DTSTART:20260329T010000
END:DAYLIGHT
BEGIN:STANDARD
TZOFFSETFROM:+0200
TZOFFSETTO:+0100
TZNAME:CET
DTSTART:20261025T010000
END:STANDARD
END:VTIMEZONE
BEGIN:VEVENT
DTSTART;TZID=Europe/Berlin:20250705T150000
DTEND;TZID=Europe/Berlin:20250705T190000
DTSTAMP:20260419T232043
CREATED:20250507T145838Z
LAST-MODIFIED:20250507T145838Z
UID:8494-1751727600-1751742000@scdhfk.de
SUMMARY:Faustball I 2. Bundesliga Süd: Heimspieltag SC DHfK
DESCRIPTION:Unsere Faustballer haben den Aufstieg in die 2. Bundesliga Süd geschafft und möchten den zweiten Heimspiel-Tag in der neuen Liga gemeinsam mit euch zu einem unvergesslichen Erlebnis machen. Kommt am 5. Juli um 15 Uhr zur Sportschule Egidius Braun und schreit unsere Faustballer zum Sieg. Der Eintritt bis 14 Jahre ist frei. \nTickets gibt’s unter https://events.vereinsticket.de/scdhfk-faustball  \nUnter dem angegebenen Link findet ihr zudem attraktive Gruppenrabatte. \nDie Gegner des SC DHfK Leipzig sind: TV Augsburg und TV Trichtingen
URL:https://scdhfk.de/veranstaltung/faustball-i-2-bundesliga-sued-heimspieltag-sc-dhfk-2/
LOCATION:Leipzig | Egidius Braun-Sportschule\, Abtnaundorfer Str. 47\, Leipzig\, 04347\, Deutschland
CATEGORIES:Faustball
ATTACH;FMTTYPE=image/jpeg:https://scdhfk.de/wp-content/uploads/2025/05/Faustball-Aufstieg-2.-Bundesliga_web.jpg
END:VEVENT
END:VCALENDAR