BEGIN:VCALENDAR
VERSION:2.0
PRODID:-//SC DHfK Leipzig e.V. - ECPv6.15.20//NONSGML v1.0//EN
CALSCALE:GREGORIAN
METHOD:PUBLISH
X-WR-CALNAME:SC DHfK Leipzig e.V.
X-ORIGINAL-URL:https://scdhfk.de
X-WR-CALDESC:Veranstaltungen für SC DHfK Leipzig e.V.
REFRESH-INTERVAL;VALUE=DURATION:PT1H
X-Robots-Tag:noindex
X-PUBLISHED-TTL:PT1H
BEGIN:VTIMEZONE
TZID:Europe/Berlin
BEGIN:DAYLIGHT
TZOFFSETFROM:+0100
TZOFFSETTO:+0200
TZNAME:CEST
DTSTART:20240331T010000
END:DAYLIGHT
BEGIN:STANDARD
TZOFFSETFROM:+0200
TZOFFSETTO:+0100
TZNAME:CET
DTSTART:20241027T010000
END:STANDARD
BEGIN:DAYLIGHT
TZOFFSETFROM:+0100
TZOFFSETTO:+0200
TZNAME:CEST
DTSTART:20250330T010000
END:DAYLIGHT
BEGIN:STANDARD
TZOFFSETFROM:+0200
TZOFFSETTO:+0100
TZNAME:CET
DTSTART:20251026T010000
END:STANDARD
BEGIN:DAYLIGHT
TZOFFSETFROM:+0100
TZOFFSETTO:+0200
TZNAME:CEST
DTSTART:20260329T010000
END:DAYLIGHT
BEGIN:STANDARD
TZOFFSETFROM:+0200
TZOFFSETTO:+0100
TZNAME:CET
DTSTART:20261025T010000
END:STANDARD
END:VTIMEZONE
BEGIN:VEVENT
DTSTART;VALUE=DATE:20250621
DTEND;VALUE=DATE:20250623
DTSTAMP:20260420T002746
CREATED:20250528T102808Z
LAST-MODIFIED:20250528T102808Z
UID:8574-1750464000-1750636799@scdhfk.de
SUMMARY:Floorball | DM U13 Junioren Kleinfeld
DESCRIPTION:Die Floorballwelt sucht die jüngsten Deutschen Meister. Gefunden werden sie am 21. und 22. Juni in der Sporthalle Rabet in Leipzig\, wo die U13 Junioren Kleinfeld Deutsche Meisterschaft über die Bühne geht. Mit dabei sind die besten acht Nachwuchsteams aus ganz Deutschland. Erstmals seit der U17 Junioren Kleinfeld Deutschen Meisterschaft 2018 ist der SC DHfK Leipzig erneut Ausrichter einer bundesweiten Endrunde. \nAm Samstag\, den 21. Juni\, stehen die Vorrundenpartien an. Am Sonntag\, den 22. Juni\, startet der Finaltag mit den Halbfinals. Im Anschluss folgen die Platzierungspartien. Das Endspiel um die Deutsche Meisterschaft wird voraussichtlich um 15:15 Uhr angepfiffen. In und im Umfeld der Halle gibt es Catering-Angebote und Freizeit-Optionen. Die Teams können zum Beispiel zur Entspannung und Ablenkung eine Stunde Streetracket-Training mit einem Profi-Trainer buchen. Auf einem Outdoor-Feld werden drei kleine Streetfloorball-Turniere stattfinden. Dazu gibt es zwei Public Viewing-Locations. \nPublic Viewing? Da die Sporthalle am Rabet nur 199 Zuschauer fasst\, wurden diverse Vorsichtsmaßnahmen getroffen. So wurden in unmittelbare Nähe der Sporthalle zwei Lokalitäten gefunden\, wo die Partien der Deutschen Meisterschaft live gestreamt werden. \nMehr Infos gibt es HIER.
URL:https://scdhfk.de/veranstaltung/floorball-dm-u13-junioren-kleinfeld/
LOCATION:Leipzig\, Sporthalle am Rabet
CATEGORIES:Floorball
ATTACH;FMTTYPE=image/jpeg:https://scdhfk.de/wp-content/uploads/2025/05/494001009_18322003750207430_4896610727962397003_n-e1748428034963.jpg
END:VEVENT
END:VCALENDAR