BEGIN:VCALENDAR
VERSION:2.0
PRODID:-//SC DHfK Leipzig e.V. - ECPv6.15.20//NONSGML v1.0//EN
CALSCALE:GREGORIAN
METHOD:PUBLISH
X-ORIGINAL-URL:https://scdhfk.de
X-WR-CALDESC:Veranstaltungen für SC DHfK Leipzig e.V.
REFRESH-INTERVAL;VALUE=DURATION:PT1H
X-Robots-Tag:noindex
X-PUBLISHED-TTL:PT1H
BEGIN:VTIMEZONE
TZID:Europe/Berlin
BEGIN:DAYLIGHT
TZOFFSETFROM:+0100
TZOFFSETTO:+0200
TZNAME:CEST
DTSTART:20240331T010000
END:DAYLIGHT
BEGIN:STANDARD
TZOFFSETFROM:+0200
TZOFFSETTO:+0100
TZNAME:CET
DTSTART:20241027T010000
END:STANDARD
BEGIN:DAYLIGHT
TZOFFSETFROM:+0100
TZOFFSETTO:+0200
TZNAME:CEST
DTSTART:20250330T010000
END:DAYLIGHT
BEGIN:STANDARD
TZOFFSETFROM:+0200
TZOFFSETTO:+0100
TZNAME:CET
DTSTART:20251026T010000
END:STANDARD
BEGIN:DAYLIGHT
TZOFFSETFROM:+0100
TZOFFSETTO:+0200
TZNAME:CEST
DTSTART:20260329T010000
END:DAYLIGHT
BEGIN:STANDARD
TZOFFSETFROM:+0200
TZOFFSETTO:+0100
TZNAME:CET
DTSTART:20261025T010000
END:STANDARD
END:VTIMEZONE
BEGIN:VEVENT
DTSTART;VALUE=DATE:20250411
DTEND;VALUE=DATE:20250415
DTSTAMP:20260420T043338
CREATED:20250228T115338Z
LAST-MODIFIED:20250407T134557Z
UID:7995-1744329600-1744675199@scdhfk.de
SUMMARY:Finswimming: World Cup
DESCRIPTION:
URL:https://scdhfk.de/veranstaltung/finswimming-world-cup-2/
LOCATION:Barcelona/Spanien
CATEGORIES:Finswimming
ATTACH;FMTTYPE=image/jpeg:https://scdhfk.de/wp-content/uploads/2023/02/03_SC-DHfK-Finswimmer-Max-Poschart-2vr-auf-dem-Weg-zu-seinem-Weltrek....jpg
END:VEVENT
BEGIN:VEVENT
DTSTART;VALUE=DATE:20250412
DTEND;VALUE=DATE:20250414
DTSTAMP:20260420T043338
CREATED:20250212T100940Z
LAST-MODIFIED:20250407T134808Z
UID:7838-1744416000-1744588799@scdhfk.de
SUMMARY:Speedskating | LE-Skate Race 2025
DESCRIPTION:Mit dem LE Skate Race am 12. und 13. April steht das erste große sportliche Ereignis in diesem Jahr auf unserer Speedskatingbahn an. Erwartet werden dazu etwa 350 Speedskater aus ganz Deutschland und dem benachbarten Ausland. Erstmalig kann der Wettkampf in diesem Jahr nicht in der gewohnten Form stattfinden. Baustellenbedingt war keine Streckenführung in Zusammenarbeit mit dem Leipzig Marathon realisierbar. Daher findet der Wettkampf 2025 an beiden Tagen auf der Sportanlage in der Diderotstraße statt.
URL:https://scdhfk.de/veranstaltung/speedskating-le-skate-race-2025/
LOCATION:Speedskating-Bahn\, Diderotstraße\, Leipzig\, Sachsen\, 04159\, Deutschland
CATEGORIES:Speedskating
ATTACH;FMTTYPE=image/jpeg:https://scdhfk.de/wp-content/uploads/2025/02/IMG_3676-scaled.jpg
END:VEVENT
END:VCALENDAR