BEGIN:VCALENDAR
VERSION:2.0
PRODID:-//SC DHfK Leipzig e.V. - ECPv6.15.20//NONSGML v1.0//EN
CALSCALE:GREGORIAN
METHOD:PUBLISH
X-ORIGINAL-URL:https://scdhfk.de
X-WR-CALDESC:Veranstaltungen für SC DHfK Leipzig e.V.
REFRESH-INTERVAL;VALUE=DURATION:PT1H
X-Robots-Tag:noindex
X-PUBLISHED-TTL:PT1H
BEGIN:VTIMEZONE
TZID:Europe/Berlin
BEGIN:DAYLIGHT
TZOFFSETFROM:+0100
TZOFFSETTO:+0200
TZNAME:CEST
DTSTART:20240331T010000
END:DAYLIGHT
BEGIN:STANDARD
TZOFFSETFROM:+0200
TZOFFSETTO:+0100
TZNAME:CET
DTSTART:20241027T010000
END:STANDARD
BEGIN:DAYLIGHT
TZOFFSETFROM:+0100
TZOFFSETTO:+0200
TZNAME:CEST
DTSTART:20250330T010000
END:DAYLIGHT
BEGIN:STANDARD
TZOFFSETFROM:+0200
TZOFFSETTO:+0100
TZNAME:CET
DTSTART:20251026T010000
END:STANDARD
BEGIN:DAYLIGHT
TZOFFSETFROM:+0100
TZOFFSETTO:+0200
TZNAME:CEST
DTSTART:20260329T010000
END:DAYLIGHT
BEGIN:STANDARD
TZOFFSETFROM:+0200
TZOFFSETTO:+0100
TZNAME:CET
DTSTART:20261025T010000
END:STANDARD
END:VTIMEZONE
BEGIN:VEVENT
DTSTART;VALUE=DATE:20250320
DTEND;VALUE=DATE:20250324
DTSTAMP:20260423T120141
CREATED:20250228T113921Z
LAST-MODIFIED:20250303T073913Z
UID:7982-1742428800-1742774399@scdhfk.de
SUMMARY:Finswimming: World Cup
DESCRIPTION:
URL:https://scdhfk.de/veranstaltung/finswimming-world-cup/
LOCATION:Lignano-Sabbiadoro (Italien)
CATEGORIES:Finswimming
ATTACH;FMTTYPE=image/jpeg:https://scdhfk.de/wp-content/uploads/2023/02/03_SC-DHfK-Finswimmer-Max-Poschart-2vr-auf-dem-Weg-zu-seinem-Weltrek....jpg
END:VEVENT
END:VCALENDAR