BEGIN:VCALENDAR
VERSION:2.0
PRODID:-//SC DHfK Leipzig e.V. - ECPv6.15.20//NONSGML v1.0//EN
CALSCALE:GREGORIAN
METHOD:PUBLISH
X-ORIGINAL-URL:https://scdhfk.de
X-WR-CALDESC:Veranstaltungen für SC DHfK Leipzig e.V.
REFRESH-INTERVAL;VALUE=DURATION:PT1H
X-Robots-Tag:noindex
X-PUBLISHED-TTL:PT1H
BEGIN:VTIMEZONE
TZID:Europe/Berlin
BEGIN:DAYLIGHT
TZOFFSETFROM:+0100
TZOFFSETTO:+0200
TZNAME:CEST
DTSTART:20240331T010000
END:DAYLIGHT
BEGIN:STANDARD
TZOFFSETFROM:+0200
TZOFFSETTO:+0100
TZNAME:CET
DTSTART:20241027T010000
END:STANDARD
BEGIN:DAYLIGHT
TZOFFSETFROM:+0100
TZOFFSETTO:+0200
TZNAME:CEST
DTSTART:20250330T010000
END:DAYLIGHT
BEGIN:STANDARD
TZOFFSETFROM:+0200
TZOFFSETTO:+0100
TZNAME:CET
DTSTART:20251026T010000
END:STANDARD
BEGIN:DAYLIGHT
TZOFFSETFROM:+0100
TZOFFSETTO:+0200
TZNAME:CEST
DTSTART:20260329T010000
END:DAYLIGHT
BEGIN:STANDARD
TZOFFSETFROM:+0200
TZOFFSETTO:+0100
TZNAME:CET
DTSTART:20261025T010000
END:STANDARD
END:VTIMEZONE
BEGIN:VEVENT
DTSTART;VALUE=DATE:20250226
DTEND;VALUE=DATE:20250306
DTSTAMP:20260423T111735
CREATED:20250214T124652Z
LAST-MODIFIED:20250214T124652Z
UID:7902-1740528000-1741219199@scdhfk.de
SUMMARY:Skisport | Biathlon IBU Junioren WM
DESCRIPTION:mit Karl Schütze
URL:https://scdhfk.de/veranstaltung/skisport-biathlon-ibu-junioren-wm/
LOCATION:Östersund (SWE)
CATEGORIES:Skisport
ATTACH;FMTTYPE=image/jpeg:https://scdhfk.de/wp-content/uploads/2025/02/Karl-Schuetze-Promo-Race-4.jpg
END:VEVENT
BEGIN:VEVENT
DTSTART;VALUE=DATE:20250227
DTEND;VALUE=DATE:20250303
DTSTAMP:20260423T111735
CREATED:20250212T094949Z
LAST-MODIFIED:20250212T094949Z
UID:7825-1740614400-1740959999@scdhfk.de
SUMMARY:Wasserspringen | Deutsche Meisterschaften A/B- Jugend
DESCRIPTION:
URL:https://scdhfk.de/veranstaltung/wasserspringen-deutsche-meisterschaften-a-b-jugend/
LOCATION:Leipzig\, Universitätsschwimmhalle
CATEGORIES:Wasserspringen
ATTACH;FMTTYPE=image/jpeg:https://scdhfk.de/wp-content/uploads/2023/03/Julina-Schnabel-1.jpg
END:VEVENT
BEGIN:VEVENT
DTSTART;TZID=Europe/Berlin:20250302T160000
DTEND;TZID=Europe/Berlin:20250302T180000
DTSTAMP:20260423T111735
CREATED:20250214T124119Z
LAST-MODIFIED:20250214T124211Z
UID:7900-1740931200-1740938400@scdhfk.de
SUMMARY:Floorball I 2. Bundesliga Ost: SC DHfK vs. Wernigerode
DESCRIPTION:SC DHfK Leipzig vs. Wernigerode
URL:https://scdhfk.de/veranstaltung/floorball-i-2-bundesliga-ost-sc-dhfk-vs-wernigerode/
LOCATION:Leipzig\, Sporthalle am Rabet
CATEGORIES:Floorball
ATTACH;FMTTYPE=image/jpeg:https://scdhfk.de/wp-content/uploads/2024/02/image0-e1707216678746.jpeg
END:VEVENT
BEGIN:VEVENT
DTSTART;TZID=Europe/Berlin:20250309T160000
DTEND;TZID=Europe/Berlin:20250309T160000
DTSTAMP:20260423T111735
CREATED:20250303T090929Z
LAST-MODIFIED:20250303T090929Z
UID:8004-1741536000-1741536000@scdhfk.de
SUMMARY:Floorball I Playoff-Halbfinale: SC DHfK vs. TV Lilienthal
DESCRIPTION:Unsere Zweitliga-Floorballer kämpfen im Playoff-Halbfinale gegen den TV Lilienthal um den Aufstieg in die erste Floorball-Bundesliga. \n\nSpiel 1/3 der Best-of-Three-Serie am 09.03. | 16 Uhr in Leipzig (Sporthalle am Rabet)\nSpiel 2/3 und ggf. 3/3 am 15. & 16.03. in Lilienthal
URL:https://scdhfk.de/veranstaltung/floorball-i-playoff-halbfinale-sc-dhfk-vs-tv-lilienthal/
LOCATION:Leipzig\, Sporthalle am Rabet
CATEGORIES:Floorball
ATTACH;FMTTYPE=image/jpeg:https://scdhfk.de/wp-content/uploads/2024/02/image0-e1707216678746.jpeg
END:VEVENT
BEGIN:VEVENT
DTSTART;TZID=Europe/Berlin:20250302T163000
DTEND;TZID=Europe/Berlin:20250302T183000
DTSTAMP:20260423T111735
CREATED:20250214T122556Z
LAST-MODIFIED:20250214T122556Z
UID:7824-1740933000-1740940200@scdhfk.de
SUMMARY:Handball I Bundesliga: SC DHfK vs. Füchse Berlin
DESCRIPTION:HIER Tickets sichern.
URL:https://scdhfk.de/veranstaltung/handball-i-bundesliga-sc-dhfk-vs-fuechse-berlin/
LOCATION:Leipzig\, QUARTERBACK Immobilien ARENA
CATEGORIES:Handball
ATTACH;FMTTYPE=image/jpeg:https://scdhfk.de/wp-content/uploads/2024/11/DHfK-Stuttgart_30_Quelle-Karsten-Mann.jpg
END:VEVENT
END:VCALENDAR