BEGIN:VCALENDAR
VERSION:2.0
PRODID:-//SC DHfK Leipzig e.V. - ECPv6.15.20//NONSGML v1.0//EN
CALSCALE:GREGORIAN
METHOD:PUBLISH
X-ORIGINAL-URL:https://scdhfk.de
X-WR-CALDESC:Veranstaltungen für SC DHfK Leipzig e.V.
REFRESH-INTERVAL;VALUE=DURATION:PT1H
X-Robots-Tag:noindex
X-PUBLISHED-TTL:PT1H
BEGIN:VTIMEZONE
TZID:Europe/Berlin
BEGIN:DAYLIGHT
TZOFFSETFROM:+0100
TZOFFSETTO:+0200
TZNAME:CEST
DTSTART:20230326T010000
END:DAYLIGHT
BEGIN:STANDARD
TZOFFSETFROM:+0200
TZOFFSETTO:+0100
TZNAME:CET
DTSTART:20231029T010000
END:STANDARD
BEGIN:DAYLIGHT
TZOFFSETFROM:+0100
TZOFFSETTO:+0200
TZNAME:CEST
DTSTART:20240331T010000
END:DAYLIGHT
BEGIN:STANDARD
TZOFFSETFROM:+0200
TZOFFSETTO:+0100
TZNAME:CET
DTSTART:20241027T010000
END:STANDARD
BEGIN:DAYLIGHT
TZOFFSETFROM:+0100
TZOFFSETTO:+0200
TZNAME:CEST
DTSTART:20250330T010000
END:DAYLIGHT
BEGIN:STANDARD
TZOFFSETFROM:+0200
TZOFFSETTO:+0100
TZNAME:CET
DTSTART:20251026T010000
END:STANDARD
END:VTIMEZONE
BEGIN:VEVENT
DTSTART;VALUE=DATE:20240920
DTEND;VALUE=DATE:20240921
DTSTAMP:20260419T143134
CREATED:20240206T095623Z
LAST-MODIFIED:20240821T073036Z
UID:5021-1726790400-1726876799@scdhfk.de
SUMMARY:70 Jahrfeier SC DHfK Leipzig | Familienfest & Festveranstaltung
DESCRIPTION:Liebe Kinder\, liebe Eltern\, liebe Mitglieder und Freunde unserer grün-weißen Sportfamilie\, \nam 20. September 2024 wird unser SC DHfK Leipzig 70 Jahre alt und das möchten wir mit euch zusammen feiern. Wir laden euch daher ganz herzlich zu unserem großen Vereinsjubiläum in die QUARTERBACK Immobilien ARENA Leipzig ein. \n15-18 Uhr: Großes Familienfest (Eintritt frei)\n\n\nUnser Familienfest verspricht jede Menge Spaß für Groß und Klein. Lernt unseren Verein von allen Seiten kennen. Es erwarten euch u.a.:\n \n\nviele Spiel- und Mitmachstationen unserer 21 Sportabteilungen – von Faustball bis Handball\, von Kanu bis Wasserspringen\nAkrobatik- und Tanzauftritte\nEssen und Trinken für Leib und Seele\nHüpfburg\nStadtjugendfeuerwehr\nKinderschminken\nMaskottchen Sportikus & BalLeo\nuvm.\n\nSeid dabei und erlebt mit uns ein tolles Fest! \n  \n\nab 19 Uhr: Festveranstaltung / Geburtstagsparty (mit Ticket)\n\n\nNach einem großen kostenfreien Familienfest von 15 bis 18 Uhr wird es abends ab 19 Uhr feierlich in der QUARTERBACK Immobilien ARENA. Es erwartet Sie: \n\nein abwechslungsreiches Bühnenprogramm\neine abschließende Geburtstagsparty mit dem DJ-Duo Roman Knoblauch und Frank Gurke\nEssen und Trinken (je nach Ticketkategorie)\nFreuen Sie sich um 19 Uhr auf einen Streifzug durch die Geschichte des Sportclubs.\nTreffen Sie Olympiasieger und Weltmeister der letzten sieben Jahrzehnte wie bspw. Kristin Otto und Gustav Adolf „Täve“ Schur.\nEmpfangen Sie mit uns feierlich unsere diesjährigen Olympioniken.\nLernen Sie unsere Talente für die Zukunft kennen.\n\nFeiern Sie mit uns und vielen Wegbegleitern und Freunden die 70 Jahre unseres SC DHfK und stoßen Sie mit uns auf die Zukunft an!
URL:https://scdhfk.de/veranstaltung/sc-dhfk-leipzig-e-v-i-70-jaehriges-jubilaeum/
LOCATION:Leipzig\, QUARTERBACK Immobilien ARENA
CATEGORIES:SC DHfK Leipzig
ATTACH;FMTTYPE=image/jpeg:https://scdhfk.de/wp-content/uploads/2024/02/70-Jahre-SC-DHfK-Feiert-mit-uns_Infoscreen_1920x1080px_web.jpg
END:VEVENT
END:VCALENDAR